BEGIN:VCALENDAR
VERSION:2.0
PRODID:icalendar-ruby
CALSCALE:GREGORIAN
METHOD:PUBLISH
BEGIN:VEVENT
DTSTAMP:20260420T064051Z
UID:5-390209@hurricanenaz.com
DTSTART:20261101T153000Z
DTEND:20261101T163000Z
CLASS:PUBLIC
CREATED:20260419T233227
DESCRIPTION:Sunday Worship
LAST-MODIFIED:20260419T233227
LOCATION:
SUMMARY:Sunday Worship
URL;VALUE=URI:https://www.hurricanenaz.com/events/sunday-worship/2026-11-01
END:VEVENT
END:VCALENDAR
