BEGIN:VCALENDAR
VERSION:2.0
PRODID:icalendar-ruby
CALSCALE:GREGORIAN
METHOD:PUBLISH
BEGIN:VEVENT
DTSTAMP:20260420T051117Z
UID:5-390208@hurricanenaz.com
DTSTART:20261025T143000Z
DTEND:20261025T153000Z
CLASS:PUBLIC
CREATED:20260419T233227
DESCRIPTION:Sunday Worship
LAST-MODIFIED:20260419T233227
LOCATION:
SUMMARY:Sunday Worship
URL;VALUE=URI:https://www.hurricanenaz.com/events/sunday-worship/2026-10-25
END:VEVENT
END:VCALENDAR
